BEGIN:VCALENDAR
VERSION:2.0
PRODID:-//Tukios.com/
BEGIN:VEVENT
UID:de7f8895-4378-4706-82c3-bdd68e235c38@www.gardenchapel.com
DTSTAMP:20260424T233140Z
DTSTART:20260504T153000Z
DTEND:20260504T163000Z
SUMMARY:Memorial Service
DESCRIPTION:Friends are invited to join the family for a luncheon and 
	visitation following the service.
URL:https://www.gardenchapel.com/obituaries/henry-schuring
LOCATION: 709 Independence Street  Pella IA 50219
GEO:41.4024834;-92.9177919
END:VEVENT
END:VCALENDAR