BEGIN:VCALENDAR
VERSION:2.0
PRODID:-//Tukios.com/
BEGIN:VEVENT
UID:5612e36b-dbfd-404c-b8df-ddba60fce38b@www.gardenchapel.com
DTSTAMP:20260421T235752Z
DTSTART:20260424T210000Z
DTEND:20260424T230000Z
SUMMARY:Visitation
DESCRIPTION:
URL:https://www.gardenchapel.com/obituaries/priscilla-warner
LOCATION: 1301 Main St  Pella IA 50219
GEO:41.4141368;-92.9167762
END:VEVENT
END:VCALENDAR